BEGIN:VCALENDAR
VERSION:2.0
PRODID:-//petra-schraud.de - ECPv6.15.20//NONSGML v1.0//EN
CALSCALE:GREGORIAN
METHOD:PUBLISH
X-WR-CALNAME:petra-schraud.de
X-ORIGINAL-URL:https://petra-schraud.de
X-WR-CALDESC:Veranstaltungen für petra-schraud.de
REFRESH-INTERVAL;VALUE=DURATION:PT1H
X-Robots-Tag:noindex
X-PUBLISHED-TTL:PT1H
BEGIN:VTIMEZONE
TZID:Europe/Berlin
BEGIN:DAYLIGHT
TZOFFSETFROM:+0100
TZOFFSETTO:+0200
TZNAME:CEST
DTSTART:20230326T010000
END:DAYLIGHT
BEGIN:STANDARD
TZOFFSETFROM:+0200
TZOFFSETTO:+0100
TZNAME:CET
DTSTART:20231029T010000
END:STANDARD
BEGIN:DAYLIGHT
TZOFFSETFROM:+0100
TZOFFSETTO:+0200
TZNAME:CEST
DTSTART:20240331T010000
END:DAYLIGHT
BEGIN:STANDARD
TZOFFSETFROM:+0200
TZOFFSETTO:+0100
TZNAME:CET
DTSTART:20241027T010000
END:STANDARD
BEGIN:DAYLIGHT
TZOFFSETFROM:+0100
TZOFFSETTO:+0200
TZNAME:CEST
DTSTART:20250330T010000
END:DAYLIGHT
BEGIN:STANDARD
TZOFFSETFROM:+0200
TZOFFSETTO:+0100
TZNAME:CET
DTSTART:20251026T010000
END:STANDARD
END:VTIMEZONE
BEGIN:VEVENT
DTSTART;TZID=Europe/Berlin:20240512T160000
DTEND;TZID=Europe/Berlin:20240512T190000
DTSTAMP:20260420T132855
CREATED:20240314T075000Z
LAST-MODIFIED:20241211T161457Z
UID:418-1715529600-1715540400@petra-schraud.de
SUMMARY:Frauenzeit Mutter
DESCRIPTION:Eine Reise zu dem mütterlichen Anteil in dir\n\n\nGanz herzliche Einladung deiner inneren Mutter zu begegnen\, sie zu erfahren\, sie zu erforschen\, sie einzuladen\, mit ihr in einen liebevollen Kontakt zu gehen.\n\n\nEine jede Frau trägt diesen mütterlichen Anteil in sich\, ganz egal ob sie jemals Kinder geboren hat oder nicht. Wir alle sind Mütter dieser Erde und es ist in uns Frauen in unserem urweiblichen Sein unserem Schoßraum\, in unserem Blut ganz fest verankert zu nähren\, zu geben\, zu umsorgen\, ein geborgenes\, behütendes Nest zu bereiten für jene die wir lieben.\n\n\nWie zeigt sich dein Mutteraspekt in deinem Leben?\nWie lebst du die Mutter in dir und bringst sie nach außen – ganz egal ob du eigene Kinder hast oder nicht.\nBist du dir selbst eine gute Mutter?\n\n\nGleichzeitig laden wir ein auch zur großen Urmutter Erde zu spüren\, die ihre Töchter in ihre liebevollen Arme nimmt\, sie inniglich liebt. Zu ihr dürfen wir kommen und uns auf ihren Bauch legen mit ihr atmen uns gehalten und getragen fühlen.\n\n\nMit Yoga\, heiligen Liedern\, weiblichen Ritualen laden wir dich ein dich mit dem Raum der Mutter zu verbinden.
URL:https://petra-schraud.de/termin/frauenzeit-liebende/
LOCATION:Yogastudio Prana\, Hadergasse 40\, Schweinfurt\, 97421\, Deutschland
CATEGORIES:Frauenzeit
ATTACH;FMTTYPE=image/jpeg:https://petra-schraud.de/wp-content/uploads/2024/02/b6c81002-0d9b-434e-a178-c58d6ab8653c-e1722201518164.jpeg
END:VEVENT
END:VCALENDAR