BEGIN:VCALENDAR
VERSION:2.0
PRODID:-//petra-schraud.de - ECPv6.15.20//NONSGML v1.0//EN
CALSCALE:GREGORIAN
METHOD:PUBLISH
X-ORIGINAL-URL:https://petra-schraud.de
X-WR-CALDESC:Veranstaltungen für petra-schraud.de
REFRESH-INTERVAL;VALUE=DURATION:PT1H
X-Robots-Tag:noindex
X-PUBLISHED-TTL:PT1H
BEGIN:VTIMEZONE
TZID:Europe/Berlin
BEGIN:DAYLIGHT
TZOFFSETFROM:+0100
TZOFFSETTO:+0200
TZNAME:CEST
DTSTART:20230326T010000
END:DAYLIGHT
BEGIN:STANDARD
TZOFFSETFROM:+0200
TZOFFSETTO:+0100
TZNAME:CET
DTSTART:20231029T010000
END:STANDARD
BEGIN:DAYLIGHT
TZOFFSETFROM:+0100
TZOFFSETTO:+0200
TZNAME:CEST
DTSTART:20240331T010000
END:DAYLIGHT
BEGIN:STANDARD
TZOFFSETFROM:+0200
TZOFFSETTO:+0100
TZNAME:CET
DTSTART:20241027T010000
END:STANDARD
BEGIN:DAYLIGHT
TZOFFSETFROM:+0100
TZOFFSETTO:+0200
TZNAME:CEST
DTSTART:20250330T010000
END:DAYLIGHT
BEGIN:STANDARD
TZOFFSETFROM:+0200
TZOFFSETTO:+0100
TZNAME:CET
DTSTART:20251026T010000
END:STANDARD
END:VTIMEZONE
BEGIN:VEVENT
DTSTART;TZID=Europe/Berlin:20240425T173000
DTEND;TZID=Europe/Berlin:20240425T200000
DTSTAMP:20260420T160744
CREATED:20240314T074155Z
LAST-MODIFIED:20251027T110436Z
UID:412-1714066200-1714075200@petra-schraud.de
SUMMARY:Filze deine Seelenhüterin
DESCRIPTION:Filze aus feiner Märchenwolle deine Seelenhüterin. \nSchenke deiner Seele an diesem Abend Raum um deine Seelenhüterin an deine Seite zu rufen um ihr mit feinster Filzwolle eine äußere Gestalt zu geben. Sie darf dich erinnern an die Qualitäten und das Licht deiner Seele\, an all deine Potenziale die sich durch dich in dieser Welt verankern möchten uns sich zeigen wollen.
URL:https://petra-schraud.de/termin/filze-deine-seelenhueterin-2/
LOCATION:Evang. Luth. Kindergarten\, Oberer Weinbergsweg 2 / Zugang über Metalltreppe\, 97532 Üchtelhausen-Zell
CATEGORIES:Filze deine Seelenhüterin
ATTACH;FMTTYPE=image/jpeg:https://petra-schraud.de/wp-content/uploads/2024/03/d08f693e-03b5-4137-b81c-124422502ad8.jpeg
END:VEVENT
END:VCALENDAR